BEGIN:VCALENDAR
VERSION:2.0
PRODID:-//The DMNA - ECPv6.15.20//NONSGML v1.0//EN
CALSCALE:GREGORIAN
METHOD:PUBLISH
X-WR-CALNAME:The DMNA
X-ORIGINAL-URL:https://www.thedmna.org
X-WR-CALDESC:Events for The DMNA
REFRESH-INTERVAL;VALUE=DURATION:PT1H
X-Robots-Tag:noindex
X-PUBLISHED-TTL:PT1H
BEGIN:VTIMEZONE
TZID:America/Chicago
BEGIN:DAYLIGHT
TZOFFSETFROM:-0600
TZOFFSETTO:-0500
TZNAME:CDT
DTSTART:20130310T080000
END:DAYLIGHT
BEGIN:STANDARD
TZOFFSETFROM:-0500
TZOFFSETTO:-0600
TZNAME:CST
DTSTART:20131103T070000
END:STANDARD
BEGIN:DAYLIGHT
TZOFFSETFROM:-0600
TZOFFSETTO:-0500
TZNAME:CDT
DTSTART:20140309T080000
END:DAYLIGHT
BEGIN:STANDARD
TZOFFSETFROM:-0500
TZOFFSETTO:-0600
TZNAME:CST
DTSTART:20141102T070000
END:STANDARD
BEGIN:DAYLIGHT
TZOFFSETFROM:-0600
TZOFFSETTO:-0500
TZNAME:CDT
DTSTART:20150308T080000
END:DAYLIGHT
BEGIN:STANDARD
TZOFFSETFROM:-0500
TZOFFSETTO:-0600
TZNAME:CST
DTSTART:20151101T070000
END:STANDARD
BEGIN:DAYLIGHT
TZOFFSETFROM:-0600
TZOFFSETTO:-0500
TZNAME:CDT
DTSTART:20160313T080000
END:DAYLIGHT
BEGIN:STANDARD
TZOFFSETFROM:-0500
TZOFFSETTO:-0600
TZNAME:CST
DTSTART:20161106T070000
END:STANDARD
BEGIN:DAYLIGHT
TZOFFSETFROM:-0600
TZOFFSETTO:-0500
TZNAME:CDT
DTSTART:20170312T080000
END:DAYLIGHT
BEGIN:STANDARD
TZOFFSETFROM:-0500
TZOFFSETTO:-0600
TZNAME:CST
DTSTART:20171105T070000
END:STANDARD
BEGIN:DAYLIGHT
TZOFFSETFROM:-0600
TZOFFSETTO:-0500
TZNAME:CDT
DTSTART:20180311T080000
END:DAYLIGHT
BEGIN:STANDARD
TZOFFSETFROM:-0500
TZOFFSETTO:-0600
TZNAME:CST
DTSTART:20181104T070000
END:STANDARD
END:VTIMEZONE
BEGIN:VEVENT
DTSTART;TZID=America/Chicago:20170418T180000
DTEND;TZID=America/Chicago:20170418T200000
DTSTAMP:20260419T081632
CREATED:20170409T181221Z
LAST-MODIFIED:20170411T012213Z
UID:10000654-1492538400-1492545600@www.thedmna.org
SUMMARY:DMNA Board meeting April 18 at Open Book
DESCRIPTION:The next DMNA Board meeting is Tuesday\, April 28\, at 6 p.m.\, at Open Book in the 2nd floor conference room. \nMeeting Agenda
URL:https://www.thedmna.org/event/dmna-board-meeting-april-18-at-open-book/
LOCATION:Open Book\, 1011 Washington Avenue S\, Minneapolis\, MN\, United States
CATEGORIES:General
GEO:44.9755212;-93.254188
X-APPLE-STRUCTURED-LOCATION;VALUE=URI;X-ADDRESS=Open Book 1011 Washington Avenue S Minneapolis MN United States;X-APPLE-RADIUS=500;X-TITLE=1011 Washington Avenue S:geo:-93.254188,44.9755212
END:VEVENT
BEGIN:VEVENT
DTSTART;TZID=America/Chicago:20170227T174500
DTEND;TZID=America/Chicago:20170227T200000
DTSTAMP:20260419T081632
CREATED:20170106T133601Z
LAST-MODIFIED:20170223T145808Z
UID:10000642-1488217500-1488225600@www.thedmna.org
SUMMARY:DMNA Board Meeting scheduled for February 27 at Open Book
DESCRIPTION:The next DMNA Board meeting is scheduled for Monday\, February 27\, at 5:45 p.m.\, at Open Book in the Performance Hall on the 2nd Floor. \nAgenda
URL:https://www.thedmna.org/event/dmna-board-meeting-scheduled-for-february-27-at-open-book/
LOCATION:Open Book\, 1011 Washington Avenue S\, Minneapolis\, MN\, United States
CATEGORIES:General
GEO:44.9755212;-93.254188
X-APPLE-STRUCTURED-LOCATION;VALUE=URI;X-ADDRESS=Open Book 1011 Washington Avenue S Minneapolis MN United States;X-APPLE-RADIUS=500;X-TITLE=1011 Washington Avenue S:geo:-93.254188,44.9755212
END:VEVENT
BEGIN:VEVENT
DTSTART;TZID=America/Chicago:20141204T180000
DTEND;TZID=America/Chicago:20141204T200000
DTSTAMP:20260419T081632
CREATED:20141112T152340Z
LAST-MODIFIED:20141129T002052Z
UID:10000508-1417716000-1417723200@www.thedmna.org
SUMMARY:December 4\, DMNA Board Meeting at Open Book
DESCRIPTION:The next DMNA Board meeting is Thursday\, December 4\, at 6 p.m.\, at Open book\, in the 2nd floor conference room. Below is a link to the meeting agenda. \nAGENDA \nStarting in January of 2015\, the DMNA Board meetings will move to the third Monday of the month.  The January meeting is scheduled for Monday\, January 19\, 2015\, at the Mill City Museum\, in the ADM Room.
URL:https://www.thedmna.org/event/december-4-dmna-board-meeting-at-open-book/
LOCATION:Open Book\, 1011 Washington Avenue S\, Minneapolis\, MN\, United States
CATEGORIES:General
ORGANIZER;CN="DMNA":MAILTO:info@thedmna.org 
GEO:44.9755212;-93.254188
X-APPLE-STRUCTURED-LOCATION;VALUE=URI;X-ADDRESS=Open Book 1011 Washington Avenue S Minneapolis MN United States;X-APPLE-RADIUS=500;X-TITLE=1011 Washington Avenue S:geo:-93.254188,44.9755212
END:VEVENT
END:VCALENDAR