BEGIN:VCALENDAR
VERSION:2.0
PRODID:-//The DMNA - ECPv6.15.20//NONSGML v1.0//EN
CALSCALE:GREGORIAN
METHOD:PUBLISH
X-ORIGINAL-URL:https://www.thedmna.org
X-WR-CALDESC:Events for The DMNA
REFRESH-INTERVAL;VALUE=DURATION:PT1H
X-Robots-Tag:noindex
X-PUBLISHED-TTL:PT1H
BEGIN:VTIMEZONE
TZID:America/Chicago
BEGIN:DAYLIGHT
TZOFFSETFROM:-0600
TZOFFSETTO:-0500
TZNAME:CDT
DTSTART:20110313T080000
END:DAYLIGHT
BEGIN:STANDARD
TZOFFSETFROM:-0500
TZOFFSETTO:-0600
TZNAME:CST
DTSTART:20111106T070000
END:STANDARD
BEGIN:DAYLIGHT
TZOFFSETFROM:-0600
TZOFFSETTO:-0500
TZNAME:CDT
DTSTART:20120311T080000
END:DAYLIGHT
BEGIN:STANDARD
TZOFFSETFROM:-0500
TZOFFSETTO:-0600
TZNAME:CST
DTSTART:20121104T070000
END:STANDARD
BEGIN:DAYLIGHT
TZOFFSETFROM:-0600
TZOFFSETTO:-0500
TZNAME:CDT
DTSTART:20130310T080000
END:DAYLIGHT
BEGIN:STANDARD
TZOFFSETFROM:-0500
TZOFFSETTO:-0600
TZNAME:CST
DTSTART:20131103T070000
END:STANDARD
END:VTIMEZONE
BEGIN:VEVENT
DTSTART;TZID=America/Chicago:20121027T100000
DTEND;TZID=America/Chicago:20121027T140000
DTSTAMP:20260420T064644
CREATED:20121026T232138Z
LAST-MODIFIED:20121026T233034Z
UID:10000406-1351332000-1351346400@www.thedmna.org
SUMMARY:MWMO’s Community Facility Grand Opening Celebration
DESCRIPTION:The Mississippi Watershed Management Organization (MWMO) and Hennepin County invite you to attend the grand openings of the MWMO’s new Community Facility and the Lowry Avenue Bridge on Saturday\, October 27\, from 10 a.m. to 2 p.m.  Be a part of this historic celebration. \nFree Festivities: \n\nSee how our landscape saves\, reuses and cleans storm water.\nTour sustainable design features of our new facility.\nVisit our Machinery Hill of storm water — featuring a vactor truck\, monitoring boat and more.\nWatch a video of the old Lowry Bridge blow up and the new bride rise.\nStep inside a giant water bubble!\nTake a free commemorative photo.\nMake your own non-toxic cleaning solution.\nFree Segway rides.\nMeet the mascot Water Drop.\nArts and crafts\nFace painting\nAnd more!\n\nFood and beverages available for purchase from local food trucks. \nTransit and Parking Options: \nStreet parking\nRide Metro Transit (#11\, 22\, and 32)\nPark in the RSP lot at 1300 Marshall Street N.E. and take the free shuttle to the MWMO \nFor more info\, please visit www.mwmo.org.
URL:https://www.thedmna.org/event/mwmos-community-facility-grand-opening-celebration/
LOCATION:MWMO\, 2522 Marshall Street NE\, Minneapolis\, MN\, United States
CATEGORIES:General
GEO:45.0138035;-93.2721319
X-APPLE-STRUCTURED-LOCATION;VALUE=URI;X-ADDRESS=MWMO 2522 Marshall Street NE Minneapolis MN United States;X-APPLE-RADIUS=500;X-TITLE=2522 Marshall Street NE:geo:-93.2721319,45.0138035
END:VEVENT
END:VCALENDAR